Package: magrene Version: 1.6.0 Command: chmod a+r magrene -R && E:\biocbuild\bbs-3.19-bioc\R\bin\R.exe CMD build --keep-empty-dirs --no-resave-data magrene StartedAt: 2024-10-16 20:02:43 -0400 (Wed, 16 Oct 2024) EndedAt: 2024-10-16 20:03:39 -0400 (Wed, 16 Oct 2024) EllapsedTime: 55.7 seconds RetCode: 0 Status: OK PackageFile: magrene_1.6.0.tar.gz PackageFileSize: 2.256 MiB