Package: magrene Version: 1.6.0 Command: rm -rf magrene.buildbin-libdir && mkdir magrene.buildbin-libdir && F:\biocbuild\bbs-3.19-bioc\R\bin\R.exe CMD INSTALL --build --library=magrene.buildbin-libdir magrene_1.6.0.tar.gz StartedAt: 2024-06-27 08:26:34 -0400 (Thu, 27 Jun 2024) EndedAt: 2024-06-27 08:26:55 -0400 (Thu, 27 Jun 2024) EllapsedTime: 20.5 seconds RetCode: 0 Status: OK PackageFile: magrene_1.6.0.zip PackageFileSize: 2.193 MiB