Package: magrene Version: 1.6.0 Command: /Library/Frameworks/R.framework/Resources/bin/R CMD check --install=check:magrene.install-out.txt --library=/Library/Frameworks/R.framework/Resources/library --no-vignettes --timings magrene_1.6.0.tar.gz StartedAt: 2024-10-17 07:35:51 -0400 (Thu, 17 Oct 2024) EndedAt: 2024-10-17 07:38:13 -0400 (Thu, 17 Oct 2024) EllapsedTime: 142.6 seconds RetCode: 0 Status: OK CheckDir: magrene.Rcheck Warnings: 0