Package: magrene Version: 1.6.0 Command: /Library/Frameworks/R.framework/Resources/bin/R CMD check --install=check:magrene.install-out.txt --library=/Library/Frameworks/R.framework/Resources/library --no-vignettes --timings magrene_1.6.0.tar.gz StartedAt: 2024-06-10 20:28:39 -0400 (Mon, 10 Jun 2024) EndedAt: 2024-06-10 20:30:40 -0400 (Mon, 10 Jun 2024) EllapsedTime: 121.0 seconds RetCode: 0 Status: OK CheckDir: magrene.Rcheck Warnings: 0