Package: magrene Version: 1.6.0 Command: rm -rf magrene.buildbin-libdir && mkdir magrene.buildbin-libdir && /Users/biocbuild/BBS/utils/build-universal.sh magrene_1.6.0.tar.gz /Library/Frameworks/R.framework/Resources/bin/R magrene.buildbin-libdir StartedAt: 2024-10-18 19:13:06 -0400 (Fri, 18 Oct 2024) EndedAt: 2024-10-18 19:13:10 -0400 (Fri, 18 Oct 2024) EllapsedTime: 4.6 seconds RetCode: 0 Status: OK PackageFile: magrene_1.6.0.tgz PackageFileSize: 2.188 MiB