Package: magrene Version: 1.6.0 Maintainer: Fabrício Almeida-Silva MaintainerEmail: fabricio_almeidasilva at hotmail.com git_url: https://git.bioconductor.org/packages/magrene git_branch: RELEASE_3_19 git_last_commit: c850146 git_last_commit_date: 2024-04-30 11:45:01 -0400 (Tue, 30 Apr 2024)