Package: magpie Version: 1.4.0 Command: /home/biocbuild/R/R-beta-2024-04-15_r86425/bin/R CMD build --keep-empty-dirs --no-resave-data magpie StartedAt: 2024-05-09 01:19:46 -0000 (Thu, 09 May 2024) EndedAt: 2024-05-09 01:21:05 -0000 (Thu, 09 May 2024) EllapsedTime: 79.1 seconds RetCode: 0 Status: OK PackageFile: magpie_1.4.0.tar.gz PackageFileSize: 1.689 MiB