Package: made4 Version: 1.78.0 Command: chmod a+r made4 -R && E:\biocbuild\bbs-3.19-bioc\R\bin\R.exe CMD build --keep-empty-dirs --no-resave-data made4 StartedAt: 2024-10-16 20:02:12 -0400 (Wed, 16 Oct 2024) EndedAt: 2024-10-16 20:03:04 -0400 (Wed, 16 Oct 2024) EllapsedTime: 51.1 seconds RetCode: 0 Status: OK PackageFile: made4_1.78.0.tar.gz PackageFileSize: 1.623 MiB