Package: made4 Version: 1.78.0 Command: rm -rf made4.buildbin-libdir && mkdir made4.buildbin-libdir && F:\biocbuild\bbs-3.19-bioc\R\bin\R.exe CMD INSTALL --build --library=made4.buildbin-libdir made4_1.78.0.tar.gz StartedAt: 2024-06-27 08:26:24 -0400 (Thu, 27 Jun 2024) EndedAt: 2024-06-27 08:26:53 -0400 (Thu, 27 Jun 2024) EllapsedTime: 29.0 seconds RetCode: 0 Status: OK PackageFile: made4_1.78.0.zip PackageFileSize: 1.387 MiB