Package: made4 Version: 1.78.0 Command: /home/biocbuild/bbs-3.19-bioc/R/bin/R CMD check --install=check:made4.install-out.txt --library=/home/biocbuild/bbs-3.19-bioc/R/site-library --timings made4_1.78.0.tar.gz StartedAt: 2024-10-17 01:57:51 -0400 (Thu, 17 Oct 2024) EndedAt: 2024-10-17 02:00:31 -0400 (Thu, 17 Oct 2024) EllapsedTime: 160.3 seconds RetCode: 0 Status: OK CheckDir: made4.Rcheck Warnings: 0