Package: made4 Version: 1.78.0 Command: /Library/Frameworks/R.framework/Resources/bin/R CMD check --install=check:made4.install-out.txt --library=/Library/Frameworks/R.framework/Resources/library --no-vignettes --timings made4_1.78.0.tar.gz StartedAt: 2024-10-17 07:34:31 -0400 (Thu, 17 Oct 2024) EndedAt: 2024-10-17 07:40:34 -0400 (Thu, 17 Oct 2024) EllapsedTime: 362.8 seconds RetCode: 0 Status: OK CheckDir: made4.Rcheck Warnings: 0