Package: made4 Version: 1.78.0 Command: /Library/Frameworks/R.framework/Resources/bin/R CMD build --keep-empty-dirs --no-resave-data made4 StartedAt: 2024-10-16 20:28:03 -0400 (Wed, 16 Oct 2024) EndedAt: 2024-10-16 20:29:43 -0400 (Wed, 16 Oct 2024) EllapsedTime: 100.0 seconds RetCode: 0 Status: OK PackageFile: made4_1.78.0.tar.gz PackageFileSize: 2.508 MiB