Package: made4 Version: 1.78.0 Command: rm -rf made4.buildbin-libdir && mkdir made4.buildbin-libdir && /Users/biocbuild/BBS/utils/build-universal.sh made4_1.78.0.tar.gz /Library/Frameworks/R.framework/Resources/bin/R made4.buildbin-libdir StartedAt: 2024-10-17 16:29:33 -0400 (Thu, 17 Oct 2024) EndedAt: 2024-10-17 16:30:31 -0400 (Thu, 17 Oct 2024) EllapsedTime: 58.9 seconds RetCode: 0 Status: OK PackageFile: made4_1.78.0.tgz PackageFileSize: 2.264 MiB