Package: made4 Version: 1.78.0 Command: /Library/Frameworks/R.framework/Resources/bin/R CMD INSTALL made4 StartedAt: 2024-06-09 15:10:01 -0400 (Sun, 09 Jun 2024) EndedAt: 2024-06-09 15:10:30 -0400 (Sun, 09 Jun 2024) EllapsedTime: 29.5 seconds RetCode: 0 Status: OK