Package: made4 Version: 1.78.0 Command: rm -rf made4.buildbin-libdir && mkdir made4.buildbin-libdir && /Users/biocbuild/BBS/utils/build-universal.sh made4_1.78.0.tar.gz /Library/Frameworks/R.framework/Resources/bin/R made4.buildbin-libdir StartedAt: 2024-06-10 00:25:00 -0400 (Mon, 10 Jun 2024) EndedAt: 2024-06-10 00:25:33 -0400 (Mon, 10 Jun 2024) EllapsedTime: 33.1 seconds RetCode: 0 Status: OK PackageFile: made4_1.78.0.tgz PackageFileSize: 2.266 MiB