Package: made4 Version: 1.78.0 Command: /Library/Frameworks/R.framework/Resources/bin/R CMD check --install=check:made4.install-out.txt --library=/Library/Frameworks/R.framework/Resources/library --no-vignettes --timings made4_1.78.0.tar.gz StartedAt: 2024-06-10 20:24:01 -0400 (Mon, 10 Jun 2024) EndedAt: 2024-06-10 20:28:13 -0400 (Mon, 10 Jun 2024) EllapsedTime: 252.1 seconds RetCode: 0 Status: OK CheckDir: made4.Rcheck Warnings: 0