Package: made4 Version: 1.78.0 Command: rm -rf made4.buildbin-libdir && mkdir made4.buildbin-libdir && /Users/biocbuild/BBS/utils/build-universal.sh made4_1.78.0.tar.gz /Library/Frameworks/R.framework/Resources/bin/R made4.buildbin-libdir StartedAt: 2024-06-11 11:51:57 -0400 (Tue, 11 Jun 2024) EndedAt: 2024-06-11 11:52:38 -0400 (Tue, 11 Jun 2024) EllapsedTime: 41.3 seconds RetCode: 0 Status: OK PackageFile: made4_1.78.0.tgz PackageFileSize: 2.266 MiB