Package: made4 Version: 1.78.0 Command: /Library/Frameworks/R.framework/Resources/bin/R CMD build --keep-empty-dirs --no-resave-data made4 StartedAt: 2024-10-17 03:23:25 -0400 (Thu, 17 Oct 2024) EndedAt: 2024-10-17 03:24:15 -0400 (Thu, 17 Oct 2024) EllapsedTime: 49.2 seconds RetCode: 0 Status: OK PackageFile: made4_1.78.0.tar.gz PackageFileSize: 2.508 MiB