Package: maSigPro Version: 1.76.0 Command: /home/biocbuild/R/R-beta-2024-04-15_r86425/bin/R CMD check --install=check:maSigPro.install-out.txt --library=/home/biocbuild/R/R-beta-2024-04-15_r86425/site-library --no-vignettes --timings maSigPro_1.76.0.tar.gz StartedAt: 2024-05-09 09:00:20 -0000 (Thu, 09 May 2024) EndedAt: 2024-05-09 09:03:32 -0000 (Thu, 09 May 2024) EllapsedTime: 191.3 seconds RetCode: 0 Status: OK CheckDir: maSigPro.Rcheck Warnings: 0