Package: maPredictDSC Version: 1.42.0 Command: chmod a+r maPredictDSC -R && F:\biocbuild\bbs-3.19-bioc\R\bin\R.exe CMD build --keep-empty-dirs --no-resave-data maPredictDSC StartedAt: 2024-06-26 19:48:46 -0400 (Wed, 26 Jun 2024) EndedAt: 2024-06-26 19:52:13 -0400 (Wed, 26 Jun 2024) EllapsedTime: 207.3 seconds RetCode: 0 Status: OK PackageFile: maPredictDSC_1.42.0.tar.gz PackageFileSize: 100.3 KiB