Package: maPredictDSC Version: 1.42.0 Command: /home/biocbuild/bbs-3.19-bioc/R/bin/R CMD build --keep-empty-dirs --no-resave-data maPredictDSC StartedAt: 2024-10-16 19:15:31 -0400 (Wed, 16 Oct 2024) EndedAt: 2024-10-16 19:16:55 -0400 (Wed, 16 Oct 2024) EllapsedTime: 84.2 seconds RetCode: 0 Status: OK PackageFile: maPredictDSC_1.42.0.tar.gz PackageFileSize: 99.09 KiB