Package: maPredictDSC Version: 1.42.0 Command: /Library/Frameworks/R.framework/Resources/bin/R CMD check --install=check:maPredictDSC.install-out.txt --library=/Library/Frameworks/R.framework/Resources/library --no-vignettes --timings maPredictDSC_1.42.0.tar.gz StartedAt: 2024-10-17 07:38:14 -0400 (Thu, 17 Oct 2024) EndedAt: 2024-10-17 07:47:42 -0400 (Thu, 17 Oct 2024) EllapsedTime: 567.8 seconds RetCode: 0 Status: OK CheckDir: maPredictDSC.Rcheck Warnings: 0