Package: maPredictDSC Version: 1.42.0 Command: /Library/Frameworks/R.framework/Resources/bin/R CMD build --keep-empty-dirs --no-resave-data maPredictDSC StartedAt: 2024-10-16 20:29:58 -0400 (Wed, 16 Oct 2024) EndedAt: 2024-10-16 20:33:39 -0400 (Wed, 16 Oct 2024) EllapsedTime: 221.6 seconds RetCode: 0 Status: OK PackageFile: maPredictDSC_1.42.0.tar.gz PackageFileSize: 197.6 KiB