Package: maPredictDSC Version: 1.42.0 Command: /Library/Frameworks/R.framework/Resources/bin/R CMD check --install=check:maPredictDSC.install-out.txt --library=/Library/Frameworks/R.framework/Resources/library --no-vignettes --timings maPredictDSC_1.42.0.tar.gz StartedAt: 2024-06-10 20:31:45 -0400 (Mon, 10 Jun 2024) EndedAt: 2024-06-10 20:38:28 -0400 (Mon, 10 Jun 2024) EllapsedTime: 403.8 seconds RetCode: 0 Status: OK CheckDir: maPredictDSC.Rcheck Warnings: 0