Package: maPredictDSC Version: 1.42.0 Command: /Library/Frameworks/R.framework/Resources/bin/R CMD INSTALL maPredictDSC StartedAt: 2024-10-16 18:18:00 -0400 (Wed, 16 Oct 2024) EndedAt: 2024-10-16 18:18:27 -0400 (Wed, 16 Oct 2024) EllapsedTime: 27.2 seconds RetCode: 0 Status: OK