Package: maPredictDSC Version: 1.42.0 Command: rm -rf maPredictDSC.buildbin-libdir && mkdir maPredictDSC.buildbin-libdir && /Users/biocbuild/BBS/utils/build-universal.sh maPredictDSC_1.42.0.tar.gz /Library/Frameworks/R.framework/Resources/bin/R maPredictDSC.buildbin-libdir StartedAt: 2024-10-18 19:13:59 -0400 (Fri, 18 Oct 2024) EndedAt: 2024-10-18 19:14:32 -0400 (Fri, 18 Oct 2024) EllapsedTime: 33.8 seconds RetCode: 0 Status: OK PackageFile: maPredictDSC_1.42.0.tgz PackageFileSize: 228.8 KiB