Package: maCorrPlot Version: 1.74.0 Command: E:\biocbuild\bbs-3.19-bioc\R\bin\R.exe CMD INSTALL maCorrPlot StartedAt: 2024-10-16 15:59:30 -0400 (Wed, 16 Oct 2024) EndedAt: 2024-10-16 15:59:56 -0400 (Wed, 16 Oct 2024) EllapsedTime: 25.2 seconds RetCode: 0 Status: OK