Package: maCorrPlot Version: 1.74.0 Command: chmod a+r maCorrPlot -R && E:\biocbuild\bbs-3.19-bioc\R\bin\R.exe CMD build --keep-empty-dirs --no-resave-data maCorrPlot StartedAt: 2024-10-16 20:02:03 -0400 (Wed, 16 Oct 2024) EndedAt: 2024-10-16 20:02:15 -0400 (Wed, 16 Oct 2024) EllapsedTime: 11.2 seconds RetCode: 0 Status: OK PackageFile: maCorrPlot_1.74.0.tar.gz PackageFileSize: 1.265 MiB