Package: maCorrPlot Version: 1.74.0 Command: rm -rf maCorrPlot.buildbin-libdir && mkdir maCorrPlot.buildbin-libdir && E:\biocbuild\bbs-3.19-bioc\R\bin\R.exe CMD INSTALL --build --library=maCorrPlot.buildbin-libdir maCorrPlot_1.74.0.tar.gz StartedAt: 2024-10-17 08:03:44 -0400 (Thu, 17 Oct 2024) EndedAt: 2024-10-17 08:03:55 -0400 (Thu, 17 Oct 2024) EllapsedTime: 11.4 seconds RetCode: 0 Status: OK PackageFile: maCorrPlot_1.74.0.zip PackageFileSize: 1.172 MiB