Package: maCorrPlot Version: 1.74.0 Command: /home/biocbuild/bbs-3.19-bioc/R/bin/R CMD build --keep-empty-dirs --no-resave-data maCorrPlot StartedAt: 2024-10-16 19:14:15 -0400 (Wed, 16 Oct 2024) EndedAt: 2024-10-16 19:14:20 -0400 (Wed, 16 Oct 2024) EllapsedTime: 5.0 seconds RetCode: 0 Status: OK PackageFile: maCorrPlot_1.74.0.tar.gz PackageFileSize: 1.265 MiB