Package: maCorrPlot Version: 1.74.0 Command: /home/biocbuild/R/R-beta-2024-04-15_r86425/bin/R CMD INSTALL maCorrPlot StartedAt: 2024-05-08 20:02:52 -0000 (Wed, 08 May 2024) EndedAt: 2024-05-08 20:03:05 -0000 (Wed, 08 May 2024) EllapsedTime: 13.2 seconds RetCode: 0 Status: OK