Package: maCorrPlot Version: 1.74.0 Command: /Library/Frameworks/R.framework/Resources/bin/R CMD build --keep-empty-dirs --no-resave-data maCorrPlot StartedAt: 2024-10-17 03:22:44 -0400 (Thu, 17 Oct 2024) EndedAt: 2024-10-17 03:22:55 -0400 (Thu, 17 Oct 2024) EllapsedTime: 11.3 seconds RetCode: 0 Status: OK PackageFile: maCorrPlot_1.74.0.tar.gz PackageFileSize: 1.265 MiB