Package: mCSEA Version: 1.24.0 Command: E:\biocbuild\bbs-3.19-bioc\R\bin\R.exe CMD INSTALL mCSEA StartedAt: 2024-10-16 16:56:05 -0400 (Wed, 16 Oct 2024) EndedAt: 2024-10-16 16:56:49 -0400 (Wed, 16 Oct 2024) EllapsedTime: 44.0 seconds RetCode: 0 Status: OK