Package: mCSEA Version: 1.24.0 Command: /home/biocbuild/bbs-3.19-bioc/R/bin/R CMD INSTALL mCSEA StartedAt: 2024-10-16 16:27:42 -0400 (Wed, 16 Oct 2024) EndedAt: 2024-10-16 16:28:20 -0400 (Wed, 16 Oct 2024) EllapsedTime: 38.6 seconds RetCode: 0 Status: OK