Package: mCSEA Version: 1.24.0 Command: /Library/Frameworks/R.framework/Resources/bin/R CMD INSTALL mCSEA StartedAt: 2024-10-16 16:15:00 -0400 (Wed, 16 Oct 2024) EndedAt: 2024-10-16 16:16:31 -0400 (Wed, 16 Oct 2024) EllapsedTime: 91.0 seconds RetCode: 0 Status: OK