Package: mCSEA Version: 1.24.0 Command: rm -rf mCSEA.buildbin-libdir && mkdir mCSEA.buildbin-libdir && /Users/biocbuild/BBS/utils/build-universal.sh mCSEA_1.24.0.tar.gz /Library/Frameworks/R.framework/Resources/bin/R mCSEA.buildbin-libdir StartedAt: 2024-10-17 16:31:18 -0400 (Thu, 17 Oct 2024) EndedAt: 2024-10-17 16:32:57 -0400 (Thu, 17 Oct 2024) EllapsedTime: 99.0 seconds RetCode: 0 Status: OK PackageFile: mCSEA_1.24.0.tgz PackageFileSize: 2.117 MiB