Package: mCSEA Version: 1.24.0 Command: /Library/Frameworks/R.framework/Resources/bin/R CMD build --keep-empty-dirs --no-resave-data mCSEA StartedAt: 2024-10-17 03:40:02 -0400 (Thu, 17 Oct 2024) EndedAt: 2024-10-17 03:44:33 -0400 (Thu, 17 Oct 2024) EllapsedTime: 270.9 seconds RetCode: 0 Status: OK PackageFile: mCSEA_1.24.0.tar.gz PackageFileSize: 1.846 MiB