Package: mBPCR Version: 1.58.0 Command: /Library/Frameworks/R.framework/Resources/bin/R CMD build --keep-empty-dirs --no-resave-data mBPCR StartedAt: 2024-10-17 03:38:42 -0400 (Thu, 17 Oct 2024) EndedAt: 2024-10-17 03:40:02 -0400 (Thu, 17 Oct 2024) EllapsedTime: 80.8 seconds RetCode: 0 Status: OK PackageFile: mBPCR_1.58.0.tar.gz PackageFileSize: 835.6 KiB