Package: mBPCR Version: 1.58.0 Command: rm -rf mBPCR.buildbin-libdir && mkdir mBPCR.buildbin-libdir && /Users/biocbuild/BBS/utils/build-universal.sh mBPCR_1.58.0.tar.gz /Library/Frameworks/R.framework/Resources/bin/R mBPCR.buildbin-libdir StartedAt: 2024-10-18 19:16:18 -0400 (Fri, 18 Oct 2024) EndedAt: 2024-10-18 19:17:05 -0400 (Fri, 18 Oct 2024) EllapsedTime: 46.9 seconds RetCode: 0 Status: OK PackageFile: mBPCR_1.58.0.tgz PackageFileSize: 929.9 KiB