Package: m6Aboost Version: 1.10.0 Command: E:\biocbuild\bbs-3.19-bioc\R\bin\R.exe CMD INSTALL m6Aboost StartedAt: 2024-10-16 17:07:22 -0400 (Wed, 16 Oct 2024) EndedAt: 2024-10-16 17:08:16 -0400 (Wed, 16 Oct 2024) EllapsedTime: 54.3 seconds RetCode: 0 Status: OK