Package: m6Aboost Version: 1.10.0 Command: E:\biocbuild\bbs-3.19-bioc\R\bin\R.exe CMD check --no-multiarch --install=check:m6Aboost.install-out.txt --library=E:\biocbuild\bbs-3.19-bioc\R\library --no-vignettes --timings m6Aboost_1.10.0.tar.gz StartedAt: 2024-10-17 02:50:36 -0400 (Thu, 17 Oct 2024) EndedAt: 2024-10-17 02:57:26 -0400 (Thu, 17 Oct 2024) EllapsedTime: 409.6 seconds RetCode: 0 Status: OK CheckDir: m6Aboost.Rcheck Warnings: 0