Package: m6Aboost Version: 1.10.0 Command: chmod a+r m6Aboost -R && E:\biocbuild\bbs-3.19-bioc\R\bin\R.exe CMD build --keep-empty-dirs --no-resave-data m6Aboost StartedAt: 2024-10-16 20:01:37 -0400 (Wed, 16 Oct 2024) EndedAt: 2024-10-16 20:03:11 -0400 (Wed, 16 Oct 2024) EllapsedTime: 94.0 seconds RetCode: 0 Status: OK PackageFile: m6Aboost_1.10.0.tar.gz PackageFileSize: 759.7 KiB