Package: m6Aboost Version: 1.10.0 Command: rm -rf m6Aboost.buildbin-libdir && mkdir m6Aboost.buildbin-libdir && E:\biocbuild\bbs-3.19-bioc\R\bin\R.exe CMD INSTALL --build --library=m6Aboost.buildbin-libdir m6Aboost_1.10.0.tar.gz StartedAt: 2024-10-17 08:03:39 -0400 (Thu, 17 Oct 2024) EndedAt: 2024-10-17 08:04:34 -0400 (Thu, 17 Oct 2024) EllapsedTime: 55.1 seconds RetCode: 0 Status: OK PackageFile: m6Aboost_1.10.0.zip PackageFileSize: 578.6 KiB