Package: m6Aboost Version: 1.10.0 Command: F:\biocbuild\bbs-3.19-bioc\R\bin\R.exe CMD INSTALL m6Aboost StartedAt: 2024-06-26 16:39:04 -0400 (Wed, 26 Jun 2024) EndedAt: 2024-06-26 16:40:03 -0400 (Wed, 26 Jun 2024) EllapsedTime: 59.3 seconds RetCode: 0 Status: OK