Package: m6Aboost Version: 1.10.0 Command: /Library/Frameworks/R.framework/Resources/bin/R CMD build --keep-empty-dirs --no-resave-data m6Aboost StartedAt: 2024-10-16 20:27:02 -0400 (Wed, 16 Oct 2024) EndedAt: 2024-10-16 20:29:58 -0400 (Wed, 16 Oct 2024) EllapsedTime: 175.7 seconds RetCode: 0 Status: OK PackageFile: m6Aboost_1.10.0.tar.gz PackageFileSize: 759.5 KiB