Package: m6Aboost Version: 1.10.0 Command: /home/biocbuild/R/R-beta-2024-04-15_r86425/bin/R CMD INSTALL m6Aboost StartedAt: 2024-05-08 20:54:59 -0000 (Wed, 08 May 2024) EndedAt: 2024-05-08 20:55:59 -0000 (Wed, 08 May 2024) EllapsedTime: 59.9 seconds RetCode: 0 Status: OK