Package: m6Aboost Version: 1.10.0 Command: /home/biocbuild/R/R-beta-2024-04-15_r86425/bin/R CMD build --keep-empty-dirs --no-resave-data m6Aboost StartedAt: 2024-05-09 01:18:44 -0000 (Thu, 09 May 2024) EndedAt: 2024-05-09 01:20:27 -0000 (Thu, 09 May 2024) EllapsedTime: 103.1 seconds RetCode: 0 Status: OK PackageFile: m6Aboost_1.10.0.tar.gz PackageFileSize: 824.4 KiB