Package: m6Aboost Version: 1.10.0 Command: /Library/Frameworks/R.framework/Resources/bin/R CMD INSTALL m6Aboost StartedAt: 2024-10-16 18:17:03 -0400 (Wed, 16 Oct 2024) EndedAt: 2024-10-16 18:17:55 -0400 (Wed, 16 Oct 2024) EllapsedTime: 52.5 seconds RetCode: 0 Status: OK