Package: m6Aboost Version: 1.10.0 Command: /Library/Frameworks/R.framework/Resources/bin/R CMD check --install=check:m6Aboost.install-out.txt --library=/Library/Frameworks/R.framework/Resources/library --no-vignettes --timings m6Aboost_1.10.0.tar.gz StartedAt: 2024-10-18 02:19:12 -0400 (Fri, 18 Oct 2024) EndedAt: 2024-10-18 02:25:36 -0400 (Fri, 18 Oct 2024) EllapsedTime: 383.5 seconds RetCode: 0 Status: OK CheckDir: m6Aboost.Rcheck Warnings: 0