Package: m6Aboost Version: 1.10.0 Command: rm -rf m6Aboost.buildbin-libdir && mkdir m6Aboost.buildbin-libdir && /Users/biocbuild/BBS/utils/build-universal.sh m6Aboost_1.10.0.tar.gz /Library/Frameworks/R.framework/Resources/bin/R m6Aboost.buildbin-libdir StartedAt: 2024-10-18 19:11:50 -0400 (Fri, 18 Oct 2024) EndedAt: 2024-10-18 19:12:55 -0400 (Fri, 18 Oct 2024) EllapsedTime: 65.8 seconds RetCode: 0 Status: OK PackageFile: m6Aboost_1.10.0.tgz PackageFileSize: 574.3 KiB